BEGIN:VCALENDAR
VERSION:2.0
PRODID:-//CSV Cosenza - ECPv6.8.1//NONSGML v1.0//EN
CALSCALE:GREGORIAN
METHOD:PUBLISH
X-ORIGINAL-URL:https://csvcosenza.it
X-WR-CALDESC:Eventi per CSV Cosenza
REFRESH-INTERVAL;VALUE=DURATION:PT1H
X-Robots-Tag:noindex
X-PUBLISHED-TTL:PT1H
BEGIN:VTIMEZONE
TZID:Europe/Rome
BEGIN:DAYLIGHT
TZOFFSETFROM:+0100
TZOFFSETTO:+0200
TZNAME:CEST
DTSTART:20250330T010000
END:DAYLIGHT
BEGIN:STANDARD
TZOFFSETFROM:+0200
TZOFFSETTO:+0100
TZNAME:CET
DTSTART:20251026T010000
END:STANDARD
END:VTIMEZONE
BEGIN:VEVENT
DTSTART;VALUE=DATE:20250607
DTEND;VALUE=DATE:20250610
DTSTAMP:20260424T115420
CREATED:20250605T080707Z
LAST-MODIFIED:20250605T080707Z
UID:25035-1749254400-1749513599@csvcosenza.it
SUMMARY:Evento Yoga e Naturopatia Ayurvedica di Alone ETS Odv
DESCRIPTION:L’associazione Alone ETS Odv ha organizzato l’evento “Astrologia\, Naturopatia Ayurvedica e Yoga”\, dal 7 al 9 giugno a Cosenza. Guidati dal dr. Balmukund Shastri Ji\, Yoga Guru di fama internazionale\, si svolgerà la cerimonia di Abhisheka; la meditazione tantrica; Kundalini Chakra – riequilibrante; Yoga Nidra – Yoga per la guarigione dei traumi; Swara e Hatha Yoga. Per informazioni e prenotazioni si possono contattare i numeri 347.1078771 e 346.2896675.
URL:https://csvcosenza.it/eventi/evento-yoga-e-naturopatia-ayurvedica-di-alone-ets-odv/
LOCATION:Cosenza
CATEGORIES:Eventi ETS
ATTACH;FMTTYPE=image/jpeg:https://csvcosenza.it/wp-content/uploads/2025/06/alone-ets.jpg
END:VEVENT
BEGIN:VEVENT
DTSTART;TZID=Europe/Rome:20250615T170000
DTEND;TZID=Europe/Rome:20250615T200000
DTSTAMP:20260424T115420
CREATED:20250612T071720Z
LAST-MODIFIED:20250612T071720Z
UID:25117-1750006800-1750017600@csvcosenza.it
SUMMARY:Lezione aperta corso base direttori di coro
DESCRIPTION:Domenica 15 giugno\, alle ore 17\, nella Cappella del Rosario della chiesa di San Domenico\, a Cosenza\, si terrà una lezione aperta del corso base e di approfondimento per direttori di coro\, ambito territoriale Calabria. L’ingresso è gratuito. La lezione vedrà la partecipazione della docente Mateja Černic\, di Daria Mishurina e del Coro Aura Artis diretto da Saverio Tinto.
URL:https://csvcosenza.it/eventi/lezione-aperta-corso-base-direttori-di-coro/
LOCATION:Cosenza
CATEGORIES:Eventi ETS
ATTACH;FMTTYPE=image/jpeg:https://csvcosenza.it/wp-content/uploads/2025/06/accademia-corale.jpg
END:VEVENT
BEGIN:VEVENT
DTSTART;TZID=Europe/Rome:20250620T200000
DTEND;TZID=Europe/Rome:20250620T220000
DTSTAMP:20260424T115420
CREATED:20250612T072727Z
LAST-MODIFIED:20250612T080507Z
UID:25120-1750449600-1750456800@csvcosenza.it
SUMMARY:Festa d’Estate all’Arca di Noè
DESCRIPTION:Venerdì 20 giugno\, alle 20\, all’Arcadinoè di Vadue di Carolei\, si terrà la Festa d’Estate con il concerto dei Cori Lucrezia della Valle & Sogna Ragazzo Sogna con direttori Saverio Tinto e Barbara Tucci.
URL:https://csvcosenza.it/eventi/festa-destate-allarca-di-noe/
LOCATION:Vadue di Carolei
CATEGORIES:Eventi ETS
ATTACH;FMTTYPE=image/png:https://csvcosenza.it/wp-content/uploads/2025/06/musica.png
END:VEVENT
BEGIN:VEVENT
DTSTART;TZID=Europe/Rome:20250621T093000
DTEND;TZID=Europe/Rome:20250621T133000
DTSTAMP:20260424T115420
CREATED:20250617T072808Z
LAST-MODIFIED:20250617T072808Z
UID:25182-1750498200-1750512600@csvcosenza.it
SUMMARY:SEAC. Convegno a Paola
DESCRIPTION:Il SEAC – Coordinamento Enti e Associazioni di volontariato penitenziato ha organizzato\, il 21 giugno\, dalle ore 9.30 alle 13.30\, l’incontro “Custodire\, accompagnare\, reinserire: volontariato e istituzioni insieme per una giustizia dal volto umano”. L’appuntamento è alla sala convegni del Santuario San Francesco di Paola. Ci si può iscrivere tramite questo modulo.
URL:https://csvcosenza.it/eventi/seac-convegno-a-paola/
LOCATION:Santuario San Francesco di Paola
CATEGORIES:Eventi ETS
ATTACH;FMTTYPE=image/png:https://csvcosenza.it/wp-content/uploads/2025/06/locandina-paola-SEAC.png
END:VEVENT
BEGIN:VEVENT
DTSTART;TZID=Europe/Rome:20250621T180000
DTEND;TZID=Europe/Rome:20250621T200000
DTSTAMP:20260424T115420
CREATED:20250603T141812Z
LAST-MODIFIED:20250603T141812Z
UID:25019-1750528800-1750536000@csvcosenza.it
SUMMARY:30esimo anniversario dell’associazione Non più soli di Castrovillari
DESCRIPTION:Festeggia i 30 anni l’associazione Non più soli di Castrovillari nata per dare un supporto alle persone con malattie oncologiche. Sabato 21 giugno\, al Protoconvento Francescano\, in largo Musitano\, alle 18\, si terrà l’inaugurazione di una mostra fotografica sull’attività svolta in questi 30 anni. Seguirà la consegna delle targhe dedicate a coloro che non ci sono più\, ma hanno lasciato un ricordo indelebile nell’associazione. Alle 22 la serata si concluderà con il concerto Opera Prima Cover dei Pooh.
URL:https://csvcosenza.it/eventi/30esimo-anniversario-dellassociazione-non-piu-soli-di-castrovillari/
LOCATION:Protoconvento Francescano – Castrovillari
CATEGORIES:Eventi ETS
ATTACH;FMTTYPE=image/png:https://csvcosenza.it/wp-content/uploads/2025/06/NPS-LOCANDINA.png
END:VEVENT
BEGIN:VEVENT
DTSTART;TZID=Europe/Rome:20250621T210000
DTEND;TZID=Europe/Rome:20250622T210000
DTSTAMP:20260424T115420
CREATED:20250619T113309Z
LAST-MODIFIED:20250619T113309Z
UID:25251-1750539600-1750626000@csvcosenza.it
SUMMARY:Esibizione orchestra Ars Enotria
DESCRIPTION:Sabato 21 e domenica 22 giugno\, nell’ambito della manifestazione “Not(t)e d’estate\, Rende in musica” promossa dalla locale Pro Loco\, si svolgerà\, nel centro storico\, un evento dedicato al maestro Mario Mazzulla. In modo particolare sabato alle 21 ci sarà l’esibizione dell’orchestra di Ars Enotria alla chiesa del Rosario diretta dal maestro Manuel Reale.
URL:https://csvcosenza.it/eventi/esibizione-orchestra-ars-enotria/
CATEGORIES:Eventi ETS
ATTACH;FMTTYPE=image/jpeg:https://csvcosenza.it/wp-content/uploads/2025/06/ars-enotria.jpg
END:VEVENT
BEGIN:VEVENT
DTSTART;TZID=Europe/Rome:20250628T173000
DTEND;TZID=Europe/Rome:20250629T210000
DTSTAMP:20260424T115420
CREATED:20250617T072039Z
LAST-MODIFIED:20250617T072039Z
UID:25177-1751131800-1751230800@csvcosenza.it
SUMMARY:Mostra di ricami artistici a Mirto Crosia
DESCRIPTION:I Circoli Auser “Un popolo attivo” di Rossano e “Sandro Pertini” di Mirto Crosia hanno organizzato sabato 28 e domenica 29 giugno\, dalle ore 17.30 alle 21\, una mostra di ricami artistici che si terrà nella sede dell’Auser “Sandro Pertini” di Mirto Crosia in viale Kennedy n. 25. L’obiettivo è far conoscere l’associazione e valorizzare le capacità espressive dei propri associati. A realizzare i ricami Maria Simari.
URL:https://csvcosenza.it/eventi/mostra-di-ricami-artistici-a-mirto-crosia/
LOCATION:Mirto Crosia
CATEGORIES:Eventi ETS
ATTACH;FMTTYPE=image/jpeg:https://csvcosenza.it/wp-content/uploads/2025/06/un-ago-come-pennello.jpg
END:VEVENT
END:VCALENDAR