BEGIN:VCALENDAR
VERSION:2.0
PRODID:-//CSV Cosenza - ECPv6.8.1//NONSGML v1.0//EN
CALSCALE:GREGORIAN
METHOD:PUBLISH
X-WR-CALNAME:CSV Cosenza
X-ORIGINAL-URL:https://csvcosenza.it
X-WR-CALDESC:Eventi per CSV Cosenza
REFRESH-INTERVAL;VALUE=DURATION:PT1H
X-Robots-Tag:noindex
X-PUBLISHED-TTL:PT1H
BEGIN:VTIMEZONE
TZID:Europe/Rome
BEGIN:DAYLIGHT
TZOFFSETFROM:+0100
TZOFFSETTO:+0200
TZNAME:CEST
DTSTART:20230326T010000
END:DAYLIGHT
BEGIN:STANDARD
TZOFFSETFROM:+0200
TZOFFSETTO:+0100
TZNAME:CET
DTSTART:20231029T010000
END:STANDARD
END:VTIMEZONE
BEGIN:VEVENT
DTSTART;TZID=Europe/Rome:20230203T170000
DTEND;TZID=Europe/Rome:20230203T170000
DTSTAMP:20260419T200504
CREATED:20230202T144308Z
LAST-MODIFIED:20230202T144308Z
UID:15486-1675443600-1675443600@csvcosenza.it
SUMMARY:Seminario ASSAPLI sulla sicurezza stradale
DESCRIPTION:L’ASSAPLI (Associazione Appartenenti alla Polizia Locale Italiana) organizza\, in occasione della Giornata mondiale sulla sicurezza stradale\, il seminario di studio sul tema “Sicurezza stradale\, codice della strada\, infrastrutture\, osservatorio regionale” venerdì 3 febbraio\, alle 17\, nella Sala degli Stemmi della Provincia di Cosenza. Nell’occasione sarà consegnato il premio ASSAPLI VI edizione. Saranno presenti autorità e referenti di associazioni.
URL:https://csvcosenza.it/eventi/seminario-assapli-sulla-sicurezza-stradale/
LOCATION:Cosenza
ATTACH;FMTTYPE=image/png:https://csvcosenza.it/wp-content/uploads/2023/02/locandina-giornata-studio_2023.png
END:VEVENT
END:VCALENDAR