BEGIN:VCALENDAR
VERSION:2.0
PRODID:-//CSV Cosenza - ECPv6.8.1//NONSGML v1.0//EN
CALSCALE:GREGORIAN
METHOD:PUBLISH
X-WR-CALNAME:CSV Cosenza
X-ORIGINAL-URL:https://csvcosenza.it
X-WR-CALDESC:Eventi per CSV Cosenza
REFRESH-INTERVAL;VALUE=DURATION:PT1H
X-Robots-Tag:noindex
X-PUBLISHED-TTL:PT1H
BEGIN:VTIMEZONE
TZID:Europe/Rome
BEGIN:DAYLIGHT
TZOFFSETFROM:+0100
TZOFFSETTO:+0200
TZNAME:CEST
DTSTART:20250330T010000
END:DAYLIGHT
BEGIN:STANDARD
TZOFFSETFROM:+0200
TZOFFSETTO:+0100
TZNAME:CET
DTSTART:20251026T010000
END:STANDARD
END:VTIMEZONE
BEGIN:VEVENT
DTSTART;TZID=Europe/Rome:20250719T183000
DTEND;TZID=Europe/Rome:20250719T200000
DTSTAMP:20260422T235012
CREATED:20250717T122346Z
LAST-MODIFIED:20250717T122346Z
UID:25567-1752949800-1752955200@csvcosenza.it
SUMMARY:Letture nel borgo a Schiavonea di Corigliano
DESCRIPTION:L’associazione Schiavonea e Sant’Angelo Puliti ha organizzato\, con il patrocinio del Comune di Corigliano – Rossano\, Letture nel borgo con l’autore 2025. Sabato 19 luglio\, alle ore 18.30\, in via Pola nel borgo Marinaro di Schiavonea di Corigliano Rossano\, sarà presentata la rivista letteraria “La Vallisa n. 124” con uno speciale su Dante Maffia. Intervengono Maria Curatolo dell’Università della Poesia “J.R: Jiménez”\, Giovanni Pistoia\, vicesindaco e assessore alla Cultura di Corigliano – Rossano\, Daniele Giancane\, direttore “La Vallisa”\, il poeta Dante Maffia e Gennaro Mercogliano\, direttore Università Popolare Rossanese.
URL:https://csvcosenza.it/eventi/letture-nel-borgo-a-schiavonea-di-corigliano/
LOCATION:Schiavonea di Corigliano Rossano
CATEGORIES:Eventi ETS
ATTACH;FMTTYPE=image/png:https://csvcosenza.it/wp-content/uploads/2025/07/MAFFIA.png
END:VEVENT
END:VCALENDAR